BEGIN:VCALENDAR
VERSION:2.0
PRODID:-//Bongazello - ECPv6.15.11//NONSGML v1.0//EN
CALSCALE:GREGORIAN
METHOD:PUBLISH
X-ORIGINAL-URL:https://bongazello.dk
X-WR-CALDESC:Begivenheder for Bongazello
REFRESH-INTERVAL;VALUE=DURATION:PT1H
X-Robots-Tag:noindex
X-PUBLISHED-TTL:PT1H
BEGIN:VTIMEZONE
TZID:Europe/Copenhagen
BEGIN:DAYLIGHT
TZOFFSETFROM:+0100
TZOFFSETTO:+0200
TZNAME:CEST
DTSTART:20230326T010000
END:DAYLIGHT
BEGIN:STANDARD
TZOFFSETFROM:+0200
TZOFFSETTO:+0100
TZNAME:CET
DTSTART:20231029T010000
END:STANDARD
BEGIN:DAYLIGHT
TZOFFSETFROM:+0100
TZOFFSETTO:+0200
TZNAME:CEST
DTSTART:20240331T010000
END:DAYLIGHT
BEGIN:STANDARD
TZOFFSETFROM:+0200
TZOFFSETTO:+0100
TZNAME:CET
DTSTART:20241027T010000
END:STANDARD
BEGIN:DAYLIGHT
TZOFFSETFROM:+0100
TZOFFSETTO:+0200
TZNAME:CEST
DTSTART:20250330T010000
END:DAYLIGHT
BEGIN:STANDARD
TZOFFSETFROM:+0200
TZOFFSETTO:+0100
TZNAME:CET
DTSTART:20251026T010000
END:STANDARD
END:VTIMEZONE
BEGIN:VEVENT
DTSTART;TZID=Europe/Copenhagen:20240207T180000
DTEND;TZID=Europe/Copenhagen:20240207T200000
DTSTAMP:20260423T190017
CREATED:20240125T064828Z
LAST-MODIFIED:20240205T145033Z
UID:12039-1707328800-1707336000@bongazello.dk
SUMMARY:Afdeling Q: Den grænseløse
DESCRIPTION:Bongazello inviterer i biografen onsdag d. 07. februar kl. 18:00 (Filmen starter kl. 18.00). \nPris pr. billet er 50 kr. inkl. popcorn og sodavand. \nDet er muligt at købe op til 4 billetter per medlem\, så du kan få familie eller venner med. \n  \nForestillingen er I Cinemaxx på Fisketorvet. \nFra kl. 17:30 udleveres popcorn og sodavand i foyeren\, så kom i god tid. \n  \nOBS! Sidste bestillingsdag er mandag d. 5/2.
URL:https://bongazello.dk/event/afdeling-q-den-graenseloese/
LOCATION:Vue: Fisketorvet\, Kalvebod Brygge 57\, København V\, 1560\, Danmark
CATEGORIES:Biograf
ATTACH;FMTTYPE=image/png:https://bongazello.dk/wp-content/uploads/2024/01/q.png
END:VEVENT
END:VCALENDAR